<?xml version="1.0" encoding="UTF-8"?>
<Capabilities xmlns="http://www.opengis.net/wmts/1.0"
xmlns:ows="http://www.opengis.net/ows/1.1"
xmlns:xlink="http://www.w3.org/1999/xlink"
xmlns:xsi="http://www.w3.org/2001/XMLSchema-instance"
xmlns:gml="http://www.opengis.net/gml"
xsi:schemaLocation="http://www.opengis.net/wmts/1.0 http://schemas.opengis.net/wmts/1.0/wmtsGetCapabilities_response.xsd"
version="1.0.0">
<!-- Service Identification --> <ows:ServiceIdentification>
<ows:Title>EDXSpatialCaches_Bedrock_Geol_24K_Facies_2025</ows:Title>
<ows:ServiceType>OGC WMTS</ows:ServiceType>
<ows:ServiceTypeVersion>1.0.0</ows:ServiceTypeVersion>
</ows:ServiceIdentification> <!-- Operations Metadata --> <ows:OperationsMetadata>
<ows:Operation name="GetCapabilities">
<ows:DCP>
<ows:HTTP>
<ows:Get xlink:href="https://prod.arcgis.netl.doe.gov/server/rest/services/EDXSpatialCaches/Bedrock_Geol_24K_Facies_2025/MapServer/WMTS/1.0.0/WMTSCapabilities.xml">
<ows:Constraint name="GetEncoding">
<ows:AllowedValues>
<ows:Value>RESTful</ows:Value>
</ows:AllowedValues>
</ows:Constraint>
</ows:Get>
<!-- add KVP binding in 10.1 -->
<ows:Get xlink:href="https://prod.arcgis.netl.doe.gov/server/rest/services/EDXSpatialCaches/Bedrock_Geol_24K_Facies_2025/MapServer/WMTS?">
<ows:Constraint name="GetEncoding">
<ows:AllowedValues>
<ows:Value>KVP</ows:Value>
</ows:AllowedValues>
</ows:Constraint>
</ows:Get>
</ows:HTTP>
</ows:DCP>
</ows:Operation>
<ows:Operation name="GetTile">
<ows:DCP>
<ows:HTTP>
<ows:Get xlink:href="https://prod.arcgis.netl.doe.gov/server/rest/services/EDXSpatialCaches/Bedrock_Geol_24K_Facies_2025/MapServer/WMTS/tile/1.0.0/">
<ows:Constraint name="GetEncoding">
<ows:AllowedValues>
<ows:Value>RESTful</ows:Value>
</ows:AllowedValues>
</ows:Constraint>
</ows:Get>
<ows:Get xlink:href="https://prod.arcgis.netl.doe.gov/server/rest/services/EDXSpatialCaches/Bedrock_Geol_24K_Facies_2025/MapServer/WMTS?">
<ows:Constraint name="GetEncoding">
<ows:AllowedValues>
<ows:Value>KVP</ows:Value>
</ows:AllowedValues>
</ows:Constraint>
</ows:Get>
</ows:HTTP>
</ows:DCP>
</ows:Operation>
</ows:OperationsMetadata> <Contents>
<!--Layer--> <Layer>
<ows:Title>EDXSpatialCaches_Bedrock_Geol_24K_Facies_2025</ows:Title> <ows:Identifier>EDXSpatialCaches_Bedrock_Geol_24K_Facies_2025</ows:Identifier>
<ows:BoundingBox crs="urn:ogc:def:crs:EPSG::3857">
<ows:LowerCorner>-9442122.5229 4686390.0792</ows:LowerCorner>
<ows:UpperCorner>-9072522.0292 5021551.033500001</ows:UpperCorner>
</ows:BoundingBox> <ows:WGS84BoundingBox crs="urn:ogc:def:crs:OGC:2:84">
<ows:LowerCorner>-84.82002976850247 38.753263643714945</ows:LowerCorner>
<ows:UpperCorner>-81.49985204341415 41.06240692558379</ows:UpperCorner>
</ows:WGS84BoundingBox>
<Style isDefault="true">
<ows:Title>Default Style</ows:Title>
<ows:Identifier>default</ows:Identifier>
</Style>
<Format>image/png</Format>
<TileMatrixSetLink>
<TileMatrixSet>default028mm</TileMatrixSet>
</TileMatrixSetLink>
<ResourceURL format="image/png" resourceType="tile" template="https://prod.arcgis.netl.doe.gov/server/rest/services/EDXSpatialCaches/Bedrock_Geol_24K_Facies_2025/MapServer/WMTS/tile/1.0.0/EDXSpatialCaches_Bedrock_Geol_24K_Facies_2025/{Style}/{TileMatrixSet}/{TileMatrix}/{TileRow}/{TileCol}.png" />
</Layer> <!--TileMatrixSet-->
<TileMatrixSet>
<ows:Title>TileMatrix using 0.28mm</ows:Title>
<ows:Abstract>The tile matrix set that has scale values calculated based on the dpi defined by OGC specification (dpi assumes 0.28mm as the physical distance of a pixel).</ows:Abstract> <ows:Identifier>default028mm</ows:Identifier>
<ows:SupportedCRS>urn:ogc:def:crs:EPSG::3857</ows:SupportedCRS>
<TileMatrix>
<ows:Identifier>0</ows:Identifier>
<ScaleDenominator>5.59082264028501E8</ScaleDenominator>
<TopLeftCorner>-2.0037508342787E7 2.0037508342787E7</TopLeftCorner> <TileWidth>256</TileWidth> <TileHeight>256</TileHeight>
<MatrixWidth>1</MatrixWidth> <MatrixHeight>1</MatrixHeight>
</TileMatrix>
<TileMatrix>
<ows:Identifier>1</ows:Identifier>
<ScaleDenominator>2.7954113201425016E8</ScaleDenominator>
<TopLeftCorner>-2.0037508342787E7 2.0037508342787E7</TopLeftCorner> <TileWidth>256</TileWidth> <TileHeight>256</TileHeight>
<MatrixWidth>1</MatrixWidth> <MatrixHeight>1</MatrixHeight>
</TileMatrix>
<TileMatrix>
<ows:Identifier>2</ows:Identifier>
<ScaleDenominator>1.3977056600712565E8</ScaleDenominator>
<TopLeftCorner>-2.0037508342787E7 2.0037508342787E7</TopLeftCorner> <TileWidth>256</TileWidth> <TileHeight>256</TileHeight>
<MatrixWidth>2</MatrixWidth> <MatrixHeight>2</MatrixHeight>
</TileMatrix>
<TileMatrix>
<ows:Identifier>3</ows:Identifier>
<ScaleDenominator>6.988528300356229E7</ScaleDenominator>
<TopLeftCorner>-2.0037508342787E7 2.0037508342787E7</TopLeftCorner> <TileWidth>256</TileWidth> <TileHeight>256</TileHeight>
<MatrixWidth>3</MatrixWidth> <MatrixHeight>4</MatrixHeight>
</TileMatrix>
<TileMatrix>
<ows:Identifier>4</ows:Identifier>
<ScaleDenominator>3.494264150178117E7</ScaleDenominator>
<TopLeftCorner>-2.0037508342787E7 2.0037508342787E7</TopLeftCorner> <TileWidth>256</TileWidth> <TileHeight>256</TileHeight>
<MatrixWidth>5</MatrixWidth> <MatrixHeight>7</MatrixHeight>
</TileMatrix>
<TileMatrix>
<ows:Identifier>5</ows:Identifier>
<ScaleDenominator>1.7471320750890587E7</ScaleDenominator>
<TopLeftCorner>-2.0037508342787E7 2.0037508342787E7</TopLeftCorner> <TileWidth>256</TileWidth> <TileHeight>256</TileHeight>
<MatrixWidth>9</MatrixWidth> <MatrixHeight>13</MatrixHeight>
</TileMatrix>
<TileMatrix>
<ows:Identifier>6</ows:Identifier>
<ScaleDenominator>8735660.375445293</ScaleDenominator>
<TopLeftCorner>-2.0037508342787E7 2.0037508342787E7</TopLeftCorner> <TileWidth>256</TileWidth> <TileHeight>256</TileHeight>
<MatrixWidth>18</MatrixWidth> <MatrixHeight>25</MatrixHeight>
</TileMatrix>
<TileMatrix>
<ows:Identifier>7</ows:Identifier>
<ScaleDenominator>4367830.187722629</ScaleDenominator>
<TopLeftCorner>-2.0037508342787E7 2.0037508342787E7</TopLeftCorner> <TileWidth>256</TileWidth> <TileHeight>256</TileHeight>
<MatrixWidth>36</MatrixWidth> <MatrixHeight>50</MatrixHeight>
</TileMatrix>
<TileMatrix>
<ows:Identifier>8</ows:Identifier>
<ScaleDenominator>2183915.093861797</ScaleDenominator>
<TopLeftCorner>-2.0037508342787E7 2.0037508342787E7</TopLeftCorner> <TileWidth>256</TileWidth> <TileHeight>256</TileHeight>
<MatrixWidth>71</MatrixWidth> <MatrixHeight>99</MatrixHeight>
</TileMatrix>
<TileMatrix>
<ows:Identifier>9</ows:Identifier>
<ScaleDenominator>1091957.546930427</ScaleDenominator>
<TopLeftCorner>-2.0037508342787E7 2.0037508342787E7</TopLeftCorner> <TileWidth>256</TileWidth> <TileHeight>256</TileHeight>
<MatrixWidth>141</MatrixWidth> <MatrixHeight>197</MatrixHeight>
</TileMatrix>
<TileMatrix>
<ows:Identifier>10</ows:Identifier>
<ScaleDenominator>545978.773465685</ScaleDenominator>
<TopLeftCorner>-2.0037508342787E7 2.0037508342787E7</TopLeftCorner> <TileWidth>256</TileWidth> <TileHeight>256</TileHeight>
<MatrixWidth>281</MatrixWidth> <MatrixHeight>393</MatrixHeight>
</TileMatrix>
<TileMatrix>
<ows:Identifier>11</ows:Identifier>
<ScaleDenominator>272989.38673236995</ScaleDenominator>
<TopLeftCorner>-2.0037508342787E7 2.0037508342787E7</TopLeftCorner> <TileWidth>256</TileWidth> <TileHeight>256</TileHeight>
<MatrixWidth>561</MatrixWidth> <MatrixHeight>785</MatrixHeight>
</TileMatrix>
<TileMatrix>
<ows:Identifier>12</ows:Identifier>
<ScaleDenominator>136494.69336618498</ScaleDenominator>
<TopLeftCorner>-2.0037508342787E7 2.0037508342787E7</TopLeftCorner> <TileWidth>256</TileWidth> <TileHeight>256</TileHeight>
<MatrixWidth>1121</MatrixWidth> <MatrixHeight>1570</MatrixHeight>
</TileMatrix>
<TileMatrix>
<ows:Identifier>13</ows:Identifier>
<ScaleDenominator>68247.34668309249</ScaleDenominator>
<TopLeftCorner>-2.0037508342787E7 2.0037508342787E7</TopLeftCorner> <TileWidth>256</TileWidth> <TileHeight>256</TileHeight>
<MatrixWidth>2242</MatrixWidth> <MatrixHeight>3139</MatrixHeight>
</TileMatrix>
<TileMatrix>
<ows:Identifier>14</ows:Identifier>
<ScaleDenominator>34123.673341546244</ScaleDenominator>
<TopLeftCorner>-2.0037508342787E7 2.0037508342787E7</TopLeftCorner> <TileWidth>256</TileWidth> <TileHeight>256</TileHeight>
<MatrixWidth>4483</MatrixWidth> <MatrixHeight>6277</MatrixHeight>
</TileMatrix>
<TileMatrix>
<ows:Identifier>15</ows:Identifier>
<ScaleDenominator>17061.836671245605</ScaleDenominator>
<TopLeftCorner>-2.0037508342787E7 2.0037508342787E7</TopLeftCorner> <TileWidth>256</TileWidth> <TileHeight>256</TileHeight>
<MatrixWidth>8966</MatrixWidth> <MatrixHeight>12553</MatrixHeight>
</TileMatrix>
<TileMatrix>
<ows:Identifier>16</ows:Identifier>
<ScaleDenominator>8530.918335622784</ScaleDenominator>
<TopLeftCorner>-2.0037508342787E7 2.0037508342787E7</TopLeftCorner> <TileWidth>256</TileWidth> <TileHeight>256</TileHeight>
<MatrixWidth>17932</MatrixWidth> <MatrixHeight>25105</MatrixHeight>
</TileMatrix>
<TileMatrix>
<ows:Identifier>17</ows:Identifier>
<ScaleDenominator>4265.459167338928</ScaleDenominator>
<TopLeftCorner>-2.0037508342787E7 2.0037508342787E7</TopLeftCorner> <TileWidth>256</TileWidth> <TileHeight>256</TileHeight>
<MatrixWidth>35863</MatrixWidth> <MatrixHeight>50209</MatrixHeight>
</TileMatrix>
<TileMatrix>
<ows:Identifier>18</ows:Identifier>
<ScaleDenominator>2132.7295841419354</ScaleDenominator>
<TopLeftCorner>-2.0037508342787E7 2.0037508342787E7</TopLeftCorner> <TileWidth>256</TileWidth> <TileHeight>256</TileHeight>
<MatrixWidth>71726</MatrixWidth> <MatrixHeight>100417</MatrixHeight>
</TileMatrix>
<TileMatrix>
<ows:Identifier>19</ows:Identifier>
<ScaleDenominator>1066.364791598498</ScaleDenominator>
<TopLeftCorner>-2.0037508342787E7 2.0037508342787E7</TopLeftCorner> <TileWidth>256</TileWidth> <TileHeight>256</TileHeight>
<MatrixWidth>143452</MatrixWidth> <MatrixHeight>200834</MatrixHeight>
</TileMatrix>
<TileMatrix>
<ows:Identifier>20</ows:Identifier>
<ScaleDenominator>533.1823957992484</ScaleDenominator>
<TopLeftCorner>-2.0037508342787E7 2.0037508342787E7</TopLeftCorner> <TileWidth>256</TileWidth> <TileHeight>256</TileHeight>
<MatrixWidth>286903</MatrixWidth> <MatrixHeight>401668</MatrixHeight>
</TileMatrix>
<TileMatrix>
<ows:Identifier>21</ows:Identifier>
<ScaleDenominator>266.5911978996242</ScaleDenominator>
<TopLeftCorner>-2.0037508342787E7 2.0037508342787E7</TopLeftCorner> <TileWidth>256</TileWidth> <TileHeight>256</TileHeight>
<MatrixWidth>573805</MatrixWidth> <MatrixHeight>803335</MatrixHeight>
</TileMatrix>
<TileMatrix>
<ows:Identifier>22</ows:Identifier>
<ScaleDenominator>133.2955989498121</ScaleDenominator>
<TopLeftCorner>-2.0037508342787E7 2.0037508342787E7</TopLeftCorner> <TileWidth>256</TileWidth> <TileHeight>256</TileHeight>
<MatrixWidth>1147610</MatrixWidth> <MatrixHeight>1606669</MatrixHeight>
</TileMatrix>
<TileMatrix>
<ows:Identifier>23</ows:Identifier>
<ScaleDenominator>66.64779947490605</ScaleDenominator>
<TopLeftCorner>-2.0037508342787E7 2.0037508342787E7</TopLeftCorner> <TileWidth>256</TileWidth> <TileHeight>256</TileHeight>
<MatrixWidth>2295220</MatrixWidth> <MatrixHeight>3213337</MatrixHeight>
</TileMatrix>
</TileMatrixSet>
</Contents>
<ServiceMetadataURL xlink:href="https://prod.arcgis.netl.doe.gov/server/rest/services/EDXSpatialCaches/Bedrock_Geol_24K_Facies_2025/MapServer/WMTS/1.0.0/WMTSCapabilities.xml" /> </Capabilities>
